BEGIN:VCALENDAR
VERSION:2.0
PRODID:-//EKA Forchheim - ECPv6.15.20//NONSGML v1.0//EN
CALSCALE:GREGORIAN
METHOD:PUBLISH
X-WR-CALNAME:EKA Forchheim
X-ORIGINAL-URL:https://energie-klima-allianz-forchheim.de
X-WR-CALDESC:Veranstaltungen für EKA Forchheim
REFRESH-INTERVAL;VALUE=DURATION:PT1H
X-Robots-Tag:noindex
X-PUBLISHED-TTL:PT1H
BEGIN:VTIMEZONE
TZID:Europe/Berlin
BEGIN:DAYLIGHT
TZOFFSETFROM:+0100
TZOFFSETTO:+0200
TZNAME:CEST
DTSTART:20240331T010000
END:DAYLIGHT
BEGIN:STANDARD
TZOFFSETFROM:+0200
TZOFFSETTO:+0100
TZNAME:CET
DTSTART:20241027T010000
END:STANDARD
BEGIN:DAYLIGHT
TZOFFSETFROM:+0100
TZOFFSETTO:+0200
TZNAME:CEST
DTSTART:20250330T010000
END:DAYLIGHT
BEGIN:STANDARD
TZOFFSETFROM:+0200
TZOFFSETTO:+0100
TZNAME:CET
DTSTART:20251026T010000
END:STANDARD
BEGIN:DAYLIGHT
TZOFFSETFROM:+0100
TZOFFSETTO:+0200
TZNAME:CEST
DTSTART:20260329T010000
END:DAYLIGHT
BEGIN:STANDARD
TZOFFSETFROM:+0200
TZOFFSETTO:+0100
TZNAME:CET
DTSTART:20261025T010000
END:STANDARD
END:VTIMEZONE
BEGIN:VEVENT
DTSTART;TZID=Europe/Berlin:20250508T170000
DTEND;TZID=Europe/Berlin:20250508T190000
DTSTAMP:20260422T092410
CREATED:20250409T191805Z
LAST-MODIFIED:20250409T191912Z
UID:4075-1746723600-1746730800@energie-klima-allianz-forchheim.de
SUMMARY:Energetische Gebäudemodernisierung – Splitklimageräte\, Infrarotheizungen und Co
DESCRIPTION:Welche Gebäude sind für welche Technik geeignet und wann macht es Sinn?\nOnline\nVeranstalter: CARMEN e.V.
URL:https://energie-klima-allianz-forchheim.de/event/energetische-gebaeudemodernisierung-splitklimageraete-infrarotheizungen-und-co/
END:VEVENT
END:VCALENDAR