BEGIN:VCALENDAR
VERSION:2.0
PRODID:-//EKA Forchheim - ECPv6.15.20//NONSGML v1.0//EN
CALSCALE:GREGORIAN
METHOD:PUBLISH
X-ORIGINAL-URL:https://energie-klima-allianz-forchheim.de
X-WR-CALDESC:Veranstaltungen für EKA Forchheim
REFRESH-INTERVAL;VALUE=DURATION:PT1H
X-Robots-Tag:noindex
X-PUBLISHED-TTL:PT1H
BEGIN:VTIMEZONE
TZID:Europe/Berlin
BEGIN:DAYLIGHT
TZOFFSETFROM:+0100
TZOFFSETTO:+0200
TZNAME:CEST
DTSTART:20250330T010000
END:DAYLIGHT
BEGIN:STANDARD
TZOFFSETFROM:+0200
TZOFFSETTO:+0100
TZNAME:CET
DTSTART:20251026T010000
END:STANDARD
BEGIN:DAYLIGHT
TZOFFSETFROM:+0100
TZOFFSETTO:+0200
TZNAME:CEST
DTSTART:20260329T010000
END:DAYLIGHT
BEGIN:STANDARD
TZOFFSETFROM:+0200
TZOFFSETTO:+0100
TZNAME:CET
DTSTART:20261025T010000
END:STANDARD
BEGIN:DAYLIGHT
TZOFFSETFROM:+0100
TZOFFSETTO:+0200
TZNAME:CEST
DTSTART:20270328T010000
END:DAYLIGHT
BEGIN:STANDARD
TZOFFSETFROM:+0200
TZOFFSETTO:+0100
TZNAME:CET
DTSTART:20271031T010000
END:STANDARD
END:VTIMEZONE
BEGIN:VEVENT
DTSTART;TZID=Europe/Berlin:20260122T130000
DTEND;TZID=Europe/Berlin:20260122T140000
DTSTAMP:20260421T212445
CREATED:20251208T184244Z
LAST-MODIFIED:20260119T071427Z
UID:4319-1769086800-1769090400@energie-klima-allianz-forchheim.de
SUMMARY:EXTERN: Klimastress bei Jugendlichen?!
DESCRIPTION:Gemeinsam aktiv werden und die psychische Gesundheit stärken \n33 Prozent der Jugendlichen haben große Angst vor dem Klimawandel; nur 18 Prozent haben keine Angst. Eine Studie im Auftrag der BARMER zeigt\, dass auch viel Bereitschaft zu konstruktivem Handeln besteht. \n 
URL:https://energie-klima-allianz-forchheim.de/event/klimastress-bei-jugendlichen/
CATEGORIES:Veranstaltungen externer Anbieter
END:VEVENT
END:VCALENDAR