BEGIN:VCALENDAR
VERSION:2.0
PRODID:-//EKA Forchheim - ECPv6.15.20//NONSGML v1.0//EN
CALSCALE:GREGORIAN
METHOD:PUBLISH
X-WR-CALNAME:EKA Forchheim
X-ORIGINAL-URL:https://energie-klima-allianz-forchheim.de
X-WR-CALDESC:Veranstaltungen für EKA Forchheim
REFRESH-INTERVAL;VALUE=DURATION:PT1H
X-Robots-Tag:noindex
X-PUBLISHED-TTL:PT1H
BEGIN:VTIMEZONE
TZID:Europe/Berlin
BEGIN:DAYLIGHT
TZOFFSETFROM:+0100
TZOFFSETTO:+0200
TZNAME:CEST
DTSTART:20250330T010000
END:DAYLIGHT
BEGIN:STANDARD
TZOFFSETFROM:+0200
TZOFFSETTO:+0100
TZNAME:CET
DTSTART:20251026T010000
END:STANDARD
BEGIN:DAYLIGHT
TZOFFSETFROM:+0100
TZOFFSETTO:+0200
TZNAME:CEST
DTSTART:20260329T010000
END:DAYLIGHT
BEGIN:STANDARD
TZOFFSETFROM:+0200
TZOFFSETTO:+0100
TZNAME:CET
DTSTART:20261025T010000
END:STANDARD
BEGIN:DAYLIGHT
TZOFFSETFROM:+0100
TZOFFSETTO:+0200
TZNAME:CEST
DTSTART:20270328T010000
END:DAYLIGHT
BEGIN:STANDARD
TZOFFSETFROM:+0200
TZOFFSETTO:+0100
TZNAME:CET
DTSTART:20271031T010000
END:STANDARD
END:VTIMEZONE
BEGIN:VEVENT
DTSTART;TZID=Europe/Berlin:20260422T190000
DTEND;TZID=Europe/Berlin:20260422T213000
DTSTAMP:20260422T014753
CREATED:20260129T110354Z
LAST-MODIFIED:20260129T110354Z
UID:4378-1776884400-1776893400@energie-klima-allianz-forchheim.de
SUMMARY:Klimaneutrales Heizen mit Wärmepumpen
DESCRIPTION:Klimaneutrales Heizen bis 2045: Wärmepumpen spielen hier ohne jeden Zweifel fachlich DIE zentrale Rolle.  \nIm Neubau ist die Wärmepumpe schon seit Jahren das am häufigsten eingesetzte Heizsystem. Doch wie sieht es im Bestand aus? Können Wärmepumpen auch in älteren Gebäuden zuverlässig und kostengünstig Wärme bereitstellen? Ist dafür eine Fußbodenheizung zwingend notwendig? Wird das Haus wirklich warm? Ist erst eine kostspielige Außendämmung erforderlich? Welchen Beitrag kann die eigene PV-Anlage leisten\, um die Kosten zu senken? \nReferent: Markus Ruckdeschel\, Energieagentur Nordbayern \nInfo-Veranstaltung mit anschließender Fragerunde \nEine Kooperationsveranstaltung zwischen der Stadt Forchheim\, der Energie- und Klima-Allianz Forchheim e.V. und der Katholischen Erwachsenenbildung BA-FO-ERH e.V.
URL:https://energie-klima-allianz-forchheim.de/event/klimaneutrales-heizen-mit-waermepumpen/
LOCATION:Pfarrsaal Verklärung Christi\, Jean-Paul-Str. 4\, Forchheim\, 91301\, Deutschland
ATTACH;FMTTYPE=image/png:https://energie-klima-allianz-forchheim.de/wp-content/uploads/2026/01/Waermepumpen-260129.png
END:VEVENT
END:VCALENDAR