BEGIN:VCALENDAR
VERSION:2.0
PRODID:-//EKA Forchheim - ECPv6.15.20//NONSGML v1.0//EN
CALSCALE:GREGORIAN
METHOD:PUBLISH
X-WR-CALNAME:EKA Forchheim
X-ORIGINAL-URL:https://energie-klima-allianz-forchheim.de
X-WR-CALDESC:Veranstaltungen für EKA Forchheim
REFRESH-INTERVAL;VALUE=DURATION:PT1H
X-Robots-Tag:noindex
X-PUBLISHED-TTL:PT1H
BEGIN:VTIMEZONE
TZID:Europe/Berlin
BEGIN:DAYLIGHT
TZOFFSETFROM:+0100
TZOFFSETTO:+0200
TZNAME:CEST
DTSTART:20250330T010000
END:DAYLIGHT
BEGIN:STANDARD
TZOFFSETFROM:+0200
TZOFFSETTO:+0100
TZNAME:CET
DTSTART:20251026T010000
END:STANDARD
BEGIN:DAYLIGHT
TZOFFSETFROM:+0100
TZOFFSETTO:+0200
TZNAME:CEST
DTSTART:20260329T010000
END:DAYLIGHT
BEGIN:STANDARD
TZOFFSETFROM:+0200
TZOFFSETTO:+0100
TZNAME:CET
DTSTART:20261025T010000
END:STANDARD
BEGIN:DAYLIGHT
TZOFFSETFROM:+0100
TZOFFSETTO:+0200
TZNAME:CEST
DTSTART:20270328T010000
END:DAYLIGHT
BEGIN:STANDARD
TZOFFSETFROM:+0200
TZOFFSETTO:+0100
TZNAME:CET
DTSTART:20271031T010000
END:STANDARD
END:VTIMEZONE
BEGIN:VEVENT
DTSTART;TZID=Europe/Berlin:20260425T140000
DTEND;TZID=Europe/Berlin:20260425T170000
DTSTAMP:20260425T012704
CREATED:20260212T104026Z
LAST-MODIFIED:20260212T104026Z
UID:4402-1777125600-1777136400@energie-klima-allianz-forchheim.de
SUMMARY:Saisoneröffnung der Liasgrube
DESCRIPTION:Wir sind mit einem Info-Stand und den „Gesichtern des Wandels“ dabei.
URL:https://energie-klima-allianz-forchheim.de/event/saisoneroeffnung-der-liasgrube/
LOCATION:Liasgrube\, Zur Lias-Grube 1\, Eggolsheim\, 91330\, Germany
ATTACH;FMTTYPE=image/png:https://energie-klima-allianz-forchheim.de/wp-content/uploads/2026/02/GesichterdesWandels-scaled-e1776152037199.png
END:VEVENT
END:VCALENDAR