BEGIN:VCALENDAR
VERSION:2.0
PRODID:-//EKA Forchheim - ECPv6.15.20//NONSGML v1.0//EN
CALSCALE:GREGORIAN
METHOD:PUBLISH
X-ORIGINAL-URL:https://energie-klima-allianz-forchheim.de
X-WR-CALDESC:Veranstaltungen für EKA Forchheim
REFRESH-INTERVAL;VALUE=DURATION:PT1H
X-Robots-Tag:noindex
X-PUBLISHED-TTL:PT1H
BEGIN:VTIMEZONE
TZID:Europe/Berlin
BEGIN:DAYLIGHT
TZOFFSETFROM:+0100
TZOFFSETTO:+0200
TZNAME:CEST
DTSTART:20240331T010000
END:DAYLIGHT
BEGIN:STANDARD
TZOFFSETFROM:+0200
TZOFFSETTO:+0100
TZNAME:CET
DTSTART:20241027T010000
END:STANDARD
BEGIN:DAYLIGHT
TZOFFSETFROM:+0100
TZOFFSETTO:+0200
TZNAME:CEST
DTSTART:20250330T010000
END:DAYLIGHT
BEGIN:STANDARD
TZOFFSETFROM:+0200
TZOFFSETTO:+0100
TZNAME:CET
DTSTART:20251026T010000
END:STANDARD
BEGIN:DAYLIGHT
TZOFFSETFROM:+0100
TZOFFSETTO:+0200
TZNAME:CEST
DTSTART:20260329T010000
END:DAYLIGHT
BEGIN:STANDARD
TZOFFSETFROM:+0200
TZOFFSETTO:+0100
TZNAME:CET
DTSTART:20261025T010000
END:STANDARD
END:VTIMEZONE
BEGIN:VEVENT
DTSTART;TZID=Europe/Berlin:20250314T080000
DTEND;TZID=Europe/Berlin:20250323T170000
DTSTAMP:20260424T110447
CREATED:20250111T081943Z
LAST-MODIFIED:20250211T130715Z
UID:3887-1741939200-1742749200@energie-klima-allianz-forchheim.de
SUMMARY:EXTERN: Main FlussFilmFest
DESCRIPTION:Programmflyer
URL:https://energie-klima-allianz-forchheim.de/event/extern-main-flussfilmfest/
ATTACH;FMTTYPE=application/pdf:https://energie-klima-allianz-forchheim.de/wp-content/uploads/2025/01/Mainflussfilmfest2025_PLK-A1_BAMBERG_V03.pdf
END:VEVENT
BEGIN:VEVENT
DTSTART;TZID=Europe/Berlin:20250314T090000
DTEND;TZID=Europe/Berlin:20250314T130000
DTSTAMP:20260424T110447
CREATED:20241130T164402Z
LAST-MODIFIED:20250109T160055Z
UID:3812-1741942800-1741957200@energie-klima-allianz-forchheim.de
SUMMARY:„Zwischen Dürre und Flut" - Teilwerkstatt Wasser im Rahmen der Zukunftswerkstatt Forchheim 2030
DESCRIPTION:Alle Infos und Link zur Anmeldung hier.
URL:https://energie-klima-allianz-forchheim.de/event/wasser-im-rahmen-der-zukunftswerkstatt-forchheim-2030/
LOCATION:Volksbank Forchheim\, Hauptstraße 39\, Forchheim\, 91301\, Deutschland
CATEGORIES:Veranstaltungen
ATTACH;FMTTYPE=image/png:https://energie-klima-allianz-forchheim.de/wp-content/uploads/2025/01/TK-Wasser-HP.png
END:VEVENT
BEGIN:VEVENT
DTSTART;TZID=Europe/Berlin:20250314T143000
DTEND;TZID=Europe/Berlin:20250314T163000
DTSTAMP:20260424T110447
CREATED:20250111T083300Z
LAST-MODIFIED:20250111T083300Z
UID:3897-1741962600-1741969800@energie-klima-allianz-forchheim.de
SUMMARY:EXTERN: Liaszwerge: Dem Wasser auf der Spur
DESCRIPTION:Kooperationsveranstaltung im Rahmen unserer Zukunftswerkstatt „Wasser“
URL:https://energie-klima-allianz-forchheim.de/event/extern-liaszwerge-dem-wasser-auf-der-spur/
CATEGORIES:Veranstaltungen externer Anbieter
END:VEVENT
BEGIN:VEVENT
DTSTART;TZID=Europe/Berlin:20250330T090000
DTEND;TZID=Europe/Berlin:20250330T170000
DTSTAMP:20260424T110447
CREATED:20241130T164636Z
LAST-MODIFIED:20250306T091827Z
UID:3815-1743325200-1743354000@energie-klima-allianz-forchheim.de
SUMMARY:Bauen mit Stroh und Lehm - Unser Beitrag zur Energie- und Immobilienmesse Forchheim
DESCRIPTION:Die Ziegelei Götz eK https://www.ziegelei-goetz.de/ aus Reckendorf ist unser diesjähriger Partner bei der Energie- und Immobilienmesse in Forchheim. Ergänzt wird sie durch einen Vortrag von Christian Bertuleit\, Lehm- und Strohballenbau. \nWeitere Infos
URL:https://energie-klima-allianz-forchheim.de/event/bauen-mit-stroh-und-lehm/
LOCATION:Energie- und Immobilienmesse Forchheim\, Klosterstr. 14\, Forchheim\, deutschland\, 91301
CATEGORIES:Veranstaltungen
ATTACH;FMTTYPE=image/webp:https://energie-klima-allianz-forchheim.de/wp-content/uploads/2024/11/Acker.webp
END:VEVENT
END:VCALENDAR